BEGIN:VCALENDAR
VERSION:2.0
PRODID:-//Africa Agenda - ECPv6.15.20//NONSGML v1.0//EN
CALSCALE:GREGORIAN
METHOD:PUBLISH
X-WR-CALNAME:Africa Agenda
X-ORIGINAL-URL:https://africaagenda.org
X-WR-CALDESC:Events for Africa Agenda
REFRESH-INTERVAL;VALUE=DURATION:PT1H
X-Robots-Tag:noindex
X-PUBLISHED-TTL:PT1H
BEGIN:VTIMEZONE
TZID:America/Denver
BEGIN:DAYLIGHT
TZOFFSETFROM:-0700
TZOFFSETTO:-0600
TZNAME:MDT
DTSTART:20250309T090000
END:DAYLIGHT
BEGIN:STANDARD
TZOFFSETFROM:-0600
TZOFFSETTO:-0700
TZNAME:MST
DTSTART:20251102T080000
END:STANDARD
BEGIN:DAYLIGHT
TZOFFSETFROM:-0700
TZOFFSETTO:-0600
TZNAME:MDT
DTSTART:20260308T090000
END:DAYLIGHT
BEGIN:STANDARD
TZOFFSETFROM:-0600
TZOFFSETTO:-0700
TZNAME:MST
DTSTART:20261101T080000
END:STANDARD
BEGIN:DAYLIGHT
TZOFFSETFROM:-0700
TZOFFSETTO:-0600
TZNAME:MDT
DTSTART:20270314T090000
END:DAYLIGHT
BEGIN:STANDARD
TZOFFSETFROM:-0600
TZOFFSETTO:-0700
TZNAME:MST
DTSTART:20271107T080000
END:STANDARD
END:VTIMEZONE
BEGIN:VEVENT
DTSTART;TZID=America/Denver:20260507T160000
DTEND;TZID=America/Denver:20260507T190000
DTSTAMP:20260423T043037
CREATED:20260224T032211Z
LAST-MODIFIED:20260224T032211Z
UID:727750-1778169600-1778180400@africaagenda.org
SUMMARY:Women Powering Change Annual Expo
DESCRIPTION:Women Powering Change at UMC (CU Boulder) \nAn annual expo showcasing the work and stories of women making a difference for a more just and sustainable world. \nFor more info\, go here
URL:https://africaagenda.org/event/women-powering-change-annual-expo/
CATEGORIES:Women Powering Change
END:VEVENT
END:VCALENDAR